BEGIN:VCALENDAR
VERSION:2.0
PRODID:-//FFRandonnée Loire - ECPv4.9.11//NONSGML v1.0//EN
CALSCALE:GREGORIAN
METHOD:PUBLISH
X-WR-CALNAME:FFRandonnée Loire
X-ORIGINAL-URL:https://www.ffrando-loire.fr
X-WR-CALDESC:Évènements pour FFRandonnée Loire
BEGIN:VTIMEZONE
TZID:UTC
BEGIN:STANDARD
TZOFFSETFROM:+0000
TZOFFSETTO:+0000
TZNAME:UTC
DTSTART:20260101T000000
END:STANDARD
END:VTIMEZONE
BEGIN:VEVENT
DTSTART;VALUE=DATE:20260425
DTEND;VALUE=DATE:20260427
DTSTAMP:20260423T150612
CREATED:20260422T131244Z
LAST-MODIFIED:20260422T131418Z
UID:34142-1777075200-1777247999@www.ffrando-loire.fr
SUMMARY:ANNULÉ 1er salon vivre la nature en rando
DESCRIPTION:ANNULÉ : Salon vivre la nature en rando. \nAttention\, ce projet de salon indiqué sur notre guide 2026 des randos (version papier) a été reporté en 2027 \n
URL:https://www.ffrando-loire.fr/event/annule-1er-salon-vivre-la-nature-en-rando/
LOCATION:hippodrome de Feurs\, Feurs\, France
END:VEVENT
END:VCALENDAR