BEGIN:VCALENDAR
VERSION:2.0
PRODID:-//FFRandonnée Loire - ECPv4.9.11//NONSGML v1.0//EN
CALSCALE:GREGORIAN
METHOD:PUBLISH
X-WR-CALNAME:FFRandonnée Loire
X-ORIGINAL-URL:https://www.ffrando-loire.fr
X-WR-CALDESC:Évènements pour FFRandonnée Loire
BEGIN:VTIMEZONE
TZID:UTC
BEGIN:STANDARD
TZOFFSETFROM:+0000
TZOFFSETTO:+0000
TZNAME:UTC
DTSTART:20260101T000000
END:STANDARD
END:VTIMEZONE
BEGIN:VEVENT
DTSTART;VALUE=DATE:20261122
DTEND;VALUE=DATE:20261123
DTSTAMP:20260425T014220
CREATED:20211008T071425Z
LAST-MODIFIED:20260112T141309Z
UID:13952-1795305600-1795391999@www.ffrando-loire.fr
SUMMARY:Rando-campagnarde® La Fouillouse
DESCRIPTION:32ème marche au profit du Téléthon organisée par l’association du hameau d’Eculieu\n4 circuits : 6\, 12\, 18 et 24 km.\n70 à 80% de sentiers\nRelais. Saucisses lentilles à l’arrivée.\nTarif : 8 à 13 €\nDépart : salle Socio Sportive rue de Saint-Just \n
URL:https://www.ffrando-loire.fr/event/maintenue-rando-campagnarde-la-fouillouse/
LOCATION:La Fouillouse\, La Fouilllouse\, 42480\, France
CATEGORIES:Rando-campagnarde ®
GEO:45.500447;4.318237
END:VEVENT
END:VCALENDAR