BEGIN:VCALENDAR
VERSION:2.0
PRODID:-//FFRandonnée Loire - ECPv4.9.11//NONSGML v1.0//EN
CALSCALE:GREGORIAN
METHOD:PUBLISH
X-WR-CALNAME:FFRandonnée Loire
X-ORIGINAL-URL:https://www.ffrando-loire.fr
X-WR-CALDESC:Évènements pour FFRandonnée Loire
BEGIN:VTIMEZONE
TZID:UTC
BEGIN:STANDARD
TZOFFSETFROM:+0000
TZOFFSETTO:+0000
TZNAME:UTC
DTSTART:20230101T000000
END:STANDARD
END:VTIMEZONE
BEGIN:VEVENT
DTSTART;VALUE=DATE:20231008
DTEND;VALUE=DATE:20231009
DTSTAMP:20260419T132057
CREATED:20191227T140720Z
LAST-MODIFIED:20230929T132809Z
UID:3051-1696723200-1696809599@www.ffrando-loire.fr
SUMMARY:Rando-campagnarde® Bourg-Argental
DESCRIPTION:Randonnée campagnarde au fil de l’Automne. 4 parcours 8\, 14\, 20 et 29 km avec ravitaillements sur les 3 grands parcours. Café à l’accueil et collation à l’arrivée. \n
URL:https://www.ffrando-loire.fr/event/rando-campagnarde-bourg-argental/
LOCATION:Bourg-Argental\, 42220\, France
CATEGORIES:Rando-campagnarde ®
GEO:45.296792;4.560653
END:VEVENT
END:VCALENDAR