BEGIN:VCALENDAR
VERSION:2.0
PRODID:-//FFRandonnée Loire - ECPv4.9.11//NONSGML v1.0//EN
CALSCALE:GREGORIAN
METHOD:PUBLISH
X-WR-CALNAME:FFRandonnée Loire
X-ORIGINAL-URL:https://www.ffrando-loire.fr
X-WR-CALDESC:Évènements pour FFRandonnée Loire
BEGIN:VTIMEZONE
TZID:UTC
BEGIN:STANDARD
TZOFFSETFROM:+0000
TZOFFSETTO:+0000
TZNAME:UTC
DTSTART:20240101T000000
END:STANDARD
END:VTIMEZONE
BEGIN:VEVENT
DTSTART;VALUE=DATE:20241207
DTEND;VALUE=DATE:20241208
DTSTAMP:20260426T020231
CREATED:20191230T131409Z
LAST-MODIFIED:20240207T165507Z
UID:3254-1733529600-1733615999@www.ffrando-loire.fr
SUMMARY:Rando-campagnarde® Bussy-Albieux
DESCRIPTION:Marche pour le Téléthon.\n3 parcours de 5\, 8 et 15 km.\nRelais et soupe aux choux à l’arrivée.\nSoirée et repas dansant. \n
URL:https://www.ffrando-loire.fr/event/rando-campagnarde-bussy-albieux/
LOCATION:Bussy-Albieux\, 42260\, France
CATEGORIES:Rando-campagnarde ®
GEO:45.79453;4.034723
END:VEVENT
END:VCALENDAR