BEGIN:VCALENDAR
VERSION:2.0
PRODID:-//FFRandonnée Loire - ECPv4.9.11//NONSGML v1.0//EN
CALSCALE:GREGORIAN
METHOD:PUBLISH
X-WR-CALNAME:FFRandonnée Loire
X-ORIGINAL-URL:https://www.ffrando-loire.fr
X-WR-CALDESC:Évènements pour FFRandonnée Loire
BEGIN:VTIMEZONE
TZID:UTC
BEGIN:STANDARD
TZOFFSETFROM:+0000
TZOFFSETTO:+0000
TZNAME:UTC
DTSTART:20210101T000000
END:STANDARD
END:VTIMEZONE
BEGIN:VEVENT
DTSTART;VALUE=DATE:20210620
DTEND;VALUE=DATE:20210621
DTSTAMP:20260421T100025
CREATED:20210312T144943Z
LAST-MODIFIED:20210520T130411Z
UID:11594-1624147200-1624233599@www.ffrando-loire.fr
SUMMARY:ANNULÉ : Rando-campagnarde® Chatelneuf
DESCRIPTION:MARCHE ANNULÉE \n23e marche du printemps avec 6 circuits de randonnée\net V.T.T. de 3\,5 à 35 km.\nAnimations enfants sur petits parcours. \nAttention\, cette marche est annulée suite à l’épidémie de Covid 19 \n
URL:https://www.ffrando-loire.fr/event/rando-campagnarde-chatelneuf-2/
LOCATION:Chatelneuf\, 42940\, France
CATEGORIES:Rando-campagnarde ®
GEO:45.638075;3.981931
END:VEVENT
END:VCALENDAR