BEGIN:VCALENDAR
VERSION:2.0
PRODID:-//FFRandonnée Loire - ECPv4.9.11//NONSGML v1.0//EN
CALSCALE:GREGORIAN
METHOD:PUBLISH
X-WR-CALNAME:FFRandonnée Loire
X-ORIGINAL-URL:https://www.ffrando-loire.fr
X-WR-CALDESC:Évènements pour FFRandonnée Loire
BEGIN:VTIMEZONE
TZID:UTC
BEGIN:STANDARD
TZOFFSETFROM:+0000
TZOFFSETTO:+0000
TZNAME:UTC
DTSTART:20220101T000000
END:STANDARD
END:VTIMEZONE
BEGIN:VEVENT
DTSTART;VALUE=DATE:20220403
DTEND;VALUE=DATE:20220404
DTSTAMP:20260421T100334
CREATED:20191223T082640Z
LAST-MODIFIED:20220401T073550Z
UID:2581-1648944000-1649030399@www.ffrando-loire.fr
SUMMARY:ANNULÉE : Rando-campagnarde® Chatelneuf
DESCRIPTION:Marche annulée\n34e marche du printemps avec 6 circuits de randonnée\net V.T.T. de 3\,5 à 35 km.\nAnimations enfants sur petits parcours. \nMarche annulé à cause de la météo et reportée à une date ultérieure. \n
URL:https://www.ffrando-loire.fr/event/rando-campagnarde-chatelneuf/
LOCATION:Chatelneuf\, 42940\, France
CATEGORIES:Rando-campagnarde ®
GEO:45.638075;3.981931
END:VEVENT
END:VCALENDAR