BEGIN:VCALENDAR
VERSION:2.0
PRODID:-//FFRandonnée Loire - ECPv4.9.11//NONSGML v1.0//EN
CALSCALE:GREGORIAN
METHOD:PUBLISH
X-WR-CALNAME:FFRandonnée Loire
X-ORIGINAL-URL:https://www.ffrando-loire.fr
X-WR-CALDESC:Évènements pour FFRandonnée Loire
BEGIN:VTIMEZONE
TZID:UTC
BEGIN:STANDARD
TZOFFSETFROM:+0000
TZOFFSETTO:+0000
TZNAME:UTC
DTSTART:20260101T000000
END:STANDARD
END:VTIMEZONE
BEGIN:VEVENT
DTSTART;VALUE=DATE:20260830
DTEND;VALUE=DATE:20260831
DTSTAMP:20260421T114258
CREATED:20191226T102010Z
LAST-MODIFIED:20260106T144929Z
UID:2769-1788048000-1788134399@www.ffrando-loire.fr
SUMMARY:Rando-campagnarde® Fraisses
DESCRIPTION:Marche du pain d’épices\norganisée par Unieux Basket 42 (FUB42)\n3 circuits : 6 (jeu de piste enfants)\, 10 et 16 km.\nRelais sur parcours et sandwichs à l’arrivée.\nUne partie des bénéfices reversée à la recherche médicale Ondaine.\nTarif : 6 à 8 € (1 € pour les moins de 6 ans sur le 6 km.\nDépart : gymnase Dorian\, allée Isodoro Calandra \n
URL:https://www.ffrando-loire.fr/event/rando-campagnarde-fraisses/
LOCATION:Fraisses\, 42490\, France
CATEGORIES:Rando-campagnarde ®
GEO:45.388302;4.26921
END:VEVENT
END:VCALENDAR