BEGIN:VCALENDAR
VERSION:2.0
PRODID:-//FFRandonnée Loire - ECPv4.9.11//NONSGML v1.0//EN
CALSCALE:GREGORIAN
METHOD:PUBLISH
X-WR-CALNAME:FFRandonnée Loire
X-ORIGINAL-URL:https://www.ffrando-loire.fr
X-WR-CALDESC:Évènements pour FFRandonnée Loire
BEGIN:VTIMEZONE
TZID:UTC
BEGIN:STANDARD
TZOFFSETFROM:+0000
TZOFFSETTO:+0000
TZNAME:UTC
DTSTART:20260101T000000
END:STANDARD
END:VTIMEZONE
BEGIN:VEVENT
DTSTART;VALUE=DATE:20260606
DTEND;VALUE=DATE:20260608
DTSTAMP:20260420T131758
CREATED:20211220T102642Z
LAST-MODIFIED:20251230T133450Z
UID:2309-1780704000-1780876799@www.ffrando-loire.fr
SUMMARY:Rando-campagnarde® La Chapelle-en-Lafaye
DESCRIPTION:Marche organisée par le comité des fêtes\n3 circuits : 9 km (1 relais)\, 14 km (2 relais) et 23 km (3 relais).\n80 à 90% de sentiers.\nSentiers du Haut-Forez et paysages bucoliques.\nDépart : salle des fêtes ERA – route de Saint-Soleymieux \n
URL:https://www.ffrando-loire.fr/event/rando-campagnarde-la-chapelle-en-lafaye/
LOCATION:La Chapelle-en-Lafaye\, La Chapelle-en-Lafaye\, 42380\, France
CATEGORIES:Rando-campagnarde ®
GEO:45.458935;3.995713
END:VEVENT
END:VCALENDAR