BEGIN:VCALENDAR
VERSION:2.0
PRODID:-//FFRandonnée Loire - ECPv4.9.11//NONSGML v1.0//EN
CALSCALE:GREGORIAN
METHOD:PUBLISH
X-WR-CALNAME:FFRandonnée Loire
X-ORIGINAL-URL:https://www.ffrando-loire.fr
X-WR-CALDESC:Évènements pour FFRandonnée Loire
BEGIN:VTIMEZONE
TZID:UTC
BEGIN:STANDARD
TZOFFSETFROM:+0000
TZOFFSETTO:+0000
TZNAME:UTC
DTSTART:20230101T000000
END:STANDARD
END:VTIMEZONE
BEGIN:VEVENT
DTSTART;VALUE=DATE:20230514
DTEND;VALUE=DATE:20230515
DTSTAMP:20260424T121630
CREATED:20191220T091051Z
LAST-MODIFIED:20230118T131826Z
UID:2237-1684022400-1684108799@www.ffrando-loire.fr
SUMMARY:Rando-campagnarde® Nollieux
DESCRIPTION:12e édition de la marche des rossignols.\nCadre champêtre et boisé. Paysages variés avec un peu de dénivelé.\n3 circuits de 7\, 16 et 22 km.\nCollation offerte à l’arrivée. \n
URL:https://www.ffrando-loire.fr/event/rando-campagnarde-nollieux/
LOCATION:Nollieux\, Nollieux\, 42260\, France
CATEGORIES:Rando-campagnarde ®
GEO:45.817539;3.996998
END:VEVENT
END:VCALENDAR