BEGIN:VCALENDAR
VERSION:2.0
PRODID:-//FFRandonnée Loire - ECPv4.9.11//NONSGML v1.0//EN
CALSCALE:GREGORIAN
METHOD:PUBLISH
X-WR-CALNAME:FFRandonnée Loire
X-ORIGINAL-URL:https://www.ffrando-loire.fr
X-WR-CALDESC:Évènements pour FFRandonnée Loire
BEGIN:VTIMEZONE
TZID:UTC
BEGIN:STANDARD
TZOFFSETFROM:+0000
TZOFFSETTO:+0000
TZNAME:UTC
DTSTART:20260101T000000
END:STANDARD
END:VTIMEZONE
BEGIN:VEVENT
DTSTART;VALUE=DATE:20261010
DTEND;VALUE=DATE:20261011
DTSTAMP:20260422T224241
CREATED:20191227T135316Z
LAST-MODIFIED:20260108T095255Z
UID:3038-1791590400-1791676799@www.ffrando-loire.fr
SUMMARY:Rando-campagnarde® Saint-Hilaire-Cusson-la-Valmitte
DESCRIPTION: \n30ème marche du vin chaud organisée par le comité des fêtes et les marcheurs de l’Aigue Blanche\n5 circuits pédestres : 4  (PMR)\, 7\, 13\, 19 et 25 km.\n95 à 100% de sentiers.\nSentiers boisés (altitude 980 m).\nTarifs de 4 à 8\,50 €.\nDépart : salle des fêtes \n
URL:https://www.ffrando-loire.fr/event/rando-campagnarde-saint-hilaire-cusson-la-valmitte-2/
LOCATION:Saint-Hilaire-Cusson-la-Valmitte\, Saint-Hilaire-Cusson-la-Valmitte\, 42380\, France
CATEGORIES:Rando-campagnarde ®,Rando-campagnarde ® fédérée
GEO:45.368125;4.041417
END:VEVENT
END:VCALENDAR