BEGIN:VCALENDAR
VERSION:2.0
PRODID:-//FFRandonnée Loire - ECPv4.9.11//NONSGML v1.0//EN
CALSCALE:GREGORIAN
METHOD:PUBLISH
X-WR-CALNAME:FFRandonnée Loire
X-ORIGINAL-URL:https://www.ffrando-loire.fr
X-WR-CALDESC:Évènements pour FFRandonnée Loire
BEGIN:VTIMEZONE
TZID:UTC
BEGIN:STANDARD
TZOFFSETFROM:+0000
TZOFFSETTO:+0000
TZNAME:UTC
DTSTART:20260101T000000
END:STANDARD
END:VTIMEZONE
BEGIN:VEVENT
DTSTART;VALUE=DATE:20260531
DTEND;VALUE=DATE:20260601
DTSTAMP:20260421T091704
CREATED:20191220T101108Z
LAST-MODIFIED:20251230T131119Z
UID:2293-1780185600-1780271999@www.ffrando-loire.fr
SUMMARY:Rando-campagnarde® Saint-Jean-Saint-Maurice-sur-Loire
DESCRIPTION:41ème Marche des Genêts organisée par les Escalous\n5 circuits en Côte Roannaise : 6\, 12\, 17\, 24 et 28 km.\nCafé offert au départ. Casse croute aux relais. Repas pour tous à l’arrivée.\nDépart : salle Serge Perche dès 7h30 \n
URL:https://www.ffrando-loire.fr/event/rando-campagnarde-saint-jean-saint-maurice-sur-loire/
LOCATION:Saint-Jean-Saint-Maurice-sur-Loire\, Saint-Jean-Saint-Maurice-sur-Loire\, 42155\, France
CATEGORIES:Rando-campagnarde ®
GEO:45.966048;4.002451
END:VEVENT
END:VCALENDAR