BEGIN:VCALENDAR
VERSION:2.0
PRODID:-//FFRandonnée Loire - ECPv4.9.11//NONSGML v1.0//EN
CALSCALE:GREGORIAN
METHOD:PUBLISH
X-WR-CALNAME:FFRandonnée Loire
X-ORIGINAL-URL:https://www.ffrando-loire.fr
X-WR-CALDESC:Évènements pour FFRandonnée Loire
BEGIN:VTIMEZONE
TZID:UTC
BEGIN:STANDARD
TZOFFSETFROM:+0000
TZOFFSETTO:+0000
TZNAME:UTC
DTSTART:20260101T000000
END:STANDARD
END:VTIMEZONE
BEGIN:VEVENT
DTSTART;VALUE=DATE:20260406
DTEND;VALUE=DATE:20260407
DTSTAMP:20260421T102304
CREATED:20211223T080157Z
LAST-MODIFIED:20251229T131626Z
UID:2559-1775433600-1775519999@www.ffrando-loire.fr
SUMMARY:Rando-campagnarde® Saint-Just-Saint-Rambert
DESCRIPTION:Marche des 2 rives organisée par les Randonneurs des 2 rives\n4 circuits : 8\, 13\, 19\, et 27 km.\nRelais à l’arrivée.\nPart des inscriptions reversée à une association caritative.\nTarif : 6 à 9 €\nDépart :  Salle Embarcadère – St Rambert \n
URL:https://www.ffrando-loire.fr/event/rando-campagnarde-saint-just-saint-rambert/
LOCATION:Saint-Just-Saint-Rambert\, Saint-Just-Saint-Rambert\, 42170\, France
CATEGORIES:Rando-campagnarde ®
GEO:45.4997;4.2414
END:VEVENT
END:VCALENDAR