BEGIN:VCALENDAR
VERSION:2.0
PRODID:-//FFRandonnée Loire - ECPv4.9.11//NONSGML v1.0//EN
CALSCALE:GREGORIAN
METHOD:PUBLISH
X-WR-CALNAME:FFRandonnée Loire
X-ORIGINAL-URL:https://www.ffrando-loire.fr
X-WR-CALDESC:Évènements pour FFRandonnée Loire
BEGIN:VTIMEZONE
TZID:UTC
BEGIN:STANDARD
TZOFFSETFROM:+0000
TZOFFSETTO:+0000
TZNAME:UTC
DTSTART:20220101T000000
END:STANDARD
END:VTIMEZONE
BEGIN:VEVENT
DTSTART;VALUE=DATE:20220522
DTEND;VALUE=DATE:20220523
DTSTAMP:20260421T102237
CREATED:20191220T094547Z
LAST-MODIFIED:20220506T083541Z
UID:2269-1653177600-1653263999@www.ffrando-loire.fr
SUMMARY:Rando-campagnarde® Vendranges
DESCRIPTION:35e randonnée des vadrouilleurs.\n4 circuits 6 km (circuit poussette)\, 8 km\, 12 km et 17 km avec 1 à 3 relais selon circuits. Collation offerte à l’arrivée. \n
URL:https://www.ffrando-loire.fr/event/rando-campagnardevendranges/
LOCATION:Vendranges\, Vendranges\, 42590\, France
CATEGORIES:Rando-campagnarde ®
GEO:45.940546;4.136139
END:VEVENT
END:VCALENDAR