BEGIN:VCALENDAR
VERSION:2.0
PRODID:-//FFRandonnée Loire - ECPv4.9.11//NONSGML v1.0//EN
CALSCALE:GREGORIAN
METHOD:PUBLISH
X-WR-CALNAME:FFRandonnée Loire
X-ORIGINAL-URL:https://www.ffrando-loire.fr
X-WR-CALDESC:Évènements pour FFRandonnée Loire
BEGIN:VTIMEZONE
TZID:UTC
BEGIN:STANDARD
TZOFFSETFROM:+0000
TZOFFSETTO:+0000
TZNAME:UTC
DTSTART:20220101T000000
END:STANDARD
END:VTIMEZONE
BEGIN:VEVENT
DTSTART;VALUE=DATE:20220716
DTEND;VALUE=DATE:20220724
DTSTAMP:20260422T183044
CREATED:20211207T132211Z
LAST-MODIFIED:20220629T082651Z
UID:14552-1657929600-1658620799@www.ffrando-loire.fr
SUMMARY:Séjour : randos en Savoie
DESCRIPTION: \nLa section marche du club Loisirs Activités Casino organise une semaine de randonnées en montagne en Savoie vers la station de la Rosière\,  du 16 au 23 juillet 2022 avec des randos à la journée (6h\, 800m dénivelé environ). Groupe de 10 à 12 personnes maximum. \nLe programme détaillé et les renseignements sont disponibles auprès du club par mail randonnee.casino@gmail.com ou par sms au 06 87 70 66 45. \n  \n
URL:https://www.ffrando-loire.fr/event/sejour-randonnee-a-andorre/
LOCATION:La Rosière\, France
CATEGORIES:Séjours
ORGANIZER;CN="Loisirs%20Activit%C3%A9s%20Casino":MAILTO:randonnee.casino@gmail.com
GEO:45.633776656224;6.8492336992249
END:VEVENT
BEGIN:VEVENT
DTSTART;VALUE=DATE:20220723
DTEND;VALUE=DATE:20220724
DTSTAMP:20260422T183044
CREATED:20210709T124315Z
LAST-MODIFIED:20220705T081140Z
UID:12686-1658534400-1658620799@www.ffrando-loire.fr
SUMMARY:Rando-campagnarde® Saint-Galmier : "la Jacquaire"
DESCRIPTION:\nDans le cadre des animations estivales baldomériennes\, Les Pas Pétillants organisent avec la municipalité une randonnée campagnarde caritative sur le chemin de St-Jacques intitulée “La Jacquaire” au profit des associations locales d’enfants malades (participation 5 euros).\n4 parcours de 9\, 12\, 18 et 23 km. \n
URL:https://www.ffrando-loire.fr/event/rando-sur-le-gr-765-chemin-de-compostelle/
LOCATION:Saint-Galmier\, Saint-Galmier\, 42330\, France
CATEGORIES:Rando-campagnarde ®,Rando-campagnarde ® fédérée
GEO:45.590666;4.318769
END:VEVENT
END:VCALENDAR