BEGIN:VCALENDAR
VERSION:2.0
PRODID:-//FFRandonnée Loire - ECPv4.9.11//NONSGML v1.0//EN
CALSCALE:GREGORIAN
METHOD:PUBLISH
X-WR-CALNAME:FFRandonnée Loire
X-ORIGINAL-URL:https://www.ffrando-loire.fr
X-WR-CALDESC:Évènements pour FFRandonnée Loire
BEGIN:VTIMEZONE
TZID:UTC
BEGIN:STANDARD
TZOFFSETFROM:+0000
TZOFFSETTO:+0000
TZNAME:UTC
DTSTART:20240101T000000
END:STANDARD
END:VTIMEZONE
BEGIN:VEVENT
DTSTART;VALUE=DATE:20240522
DTEND;VALUE=DATE:20240523
DTSTAMP:20260419T140849
CREATED:20240517T082947Z
LAST-MODIFIED:20240517T083027Z
UID:25649-1716336000-1716422399@www.ffrando-loire.fr
SUMMARY:[40 ans FNE Loire] – Montée aux sources du Furan
DESCRIPTION: \nSur une distance de 20 km avec un dénivelé de 700 mètres\, suivez le chemin des aqueducs\, longez le “Gouffre d’Enfer” jusqu’à Pont Souvigné\, puis rejoignez “Le Tremplin” pour découvrir la source du Furan\, dans la charmante commune du Bessat.\nUn pique-nique convivial est prévu au Tremplin vers midi. Le retour se fera par le GR42. \nPlus d’infos et inscription : https://loireenvert.fr/calendrier/montee-aux-sources-du-furan/ \n  \n
URL:https://www.ffrando-loire.fr/event/40-ans-fne-loire-montee-aux-sources-du-furan/
LOCATION:Rochetaillée\, 42100\, France
CATEGORIES:Rando guidée
ORGANIZER;CN="Comit%C3%A9%20FFRandonn%C3%A9e%20Loire":MAILTO:loire@ffrandonnee.fr
GEO:45.41051;4.445802
END:VEVENT
BEGIN:VEVENT
DTSTART;VALUE=DATE:20240522
DTEND;VALUE=DATE:20240523
DTSTAMP:20260419T140849
CREATED:20240517T083321Z
LAST-MODIFIED:20240517T083321Z
UID:25652-1716336000-1716422399@www.ffrando-loire.fr
SUMMARY:[40 ans FNE Loire] – Marche autour du barrage du Pas-du-Riot
DESCRIPTION: \nPartez à la découverte du barrage du Pas-du-Riot\, encadrés par nos guides organisateurs qui vous sensibiliseront à la biodiversité. \nUne agréable balade de 5 km dénivelé positif (180 m)\, parfaitement adaptée aux familles\, y compris avec de jeunes enfants. Vous pouvez également opter pour une exploration du sentier pédagogique à travers la forêt\, avec la possibilité d’admirer le paysage depuis un belvédère. Un représentant de l’Office National des Forêt vous fera découvrir les secrets de ce lieu. \nPlus d’infos et inscriptions : https://loireenvert.fr/calendrier/marche-autour-du-barrage-du-pas-du-riot/ \n
URL:https://www.ffrando-loire.fr/event/40-ans-fne-loire-marche-autour-du-barrage-du-pas-du-riot/
LOCATION:Parking du Pas du Riot\, France
CATEGORIES:Rando guidée
ORGANIZER;CN="Comit%C3%A9%20FFRandonn%C3%A9e%20Loire":MAILTO:loire@ffrandonnee.fr
GEO:45.378365540526;4.4560603595724
END:VEVENT
END:VCALENDAR