BEGIN:VCALENDAR
VERSION:2.0
PRODID:-//FFRandonnée Loire - ECPv4.9.11//NONSGML v1.0//EN
CALSCALE:GREGORIAN
METHOD:PUBLISH
X-WR-CALNAME:FFRandonnée Loire
X-ORIGINAL-URL:https://www.ffrando-loire.fr
X-WR-CALDESC:Évènements pour FFRandonnée Loire
BEGIN:VTIMEZONE
TZID:UTC
BEGIN:STANDARD
TZOFFSETFROM:+0000
TZOFFSETTO:+0000
TZNAME:UTC
DTSTART:20240101T000000
END:STANDARD
END:VTIMEZONE
BEGIN:VEVENT
DTSTART;VALUE=DATE:20240608
DTEND;VALUE=DATE:20240609
DTSTAMP:20260422T203603
CREATED:20191220T105425Z
LAST-MODIFIED:20231212T125031Z
UID:2328-1717804800-1717891199@www.ffrando-loire.fr
SUMMARY:Rando-campagnarde® Saint-Genest-Malifaux
DESCRIPTION:4 parcours marche et 2 parcours V.T.T.\nMarche 6 km (tétars)\, 10 km (tritons)\, 14 km (grenouilles) et 25 km (crapauds).\nV.T.T. 17 km (geckos) et 25 km (salamandre). \n
URL:https://www.ffrando-loire.fr/event/rando-campagnarde-saint-genest-malifaux/
LOCATION:Saint-Genest-Malifaux\, Saint-Genest-Malifaux\, 42660\, France
CATEGORIES:Rando-campagnarde ®
GEO:45.340151;4.420461
END:VEVENT
END:VCALENDAR