BEGIN:VCALENDAR
VERSION:2.0
PRODID:-//FFRandonnée Loire - ECPv4.9.11//NONSGML v1.0//EN
CALSCALE:GREGORIAN
METHOD:PUBLISH
X-WR-CALNAME:FFRandonnée Loire
X-ORIGINAL-URL:https://www.ffrando-loire.fr
X-WR-CALDESC:Évènements pour FFRandonnée Loire
BEGIN:VTIMEZONE
TZID:UTC
BEGIN:STANDARD
TZOFFSETFROM:+0000
TZOFFSETTO:+0000
TZNAME:UTC
DTSTART:20240101T000000
END:STANDARD
END:VTIMEZONE
BEGIN:VEVENT
DTSTART;VALUE=DATE:20240630
DTEND;VALUE=DATE:20240701
DTSTAMP:20260421T013658
CREATED:20170626T094608Z
LAST-MODIFIED:20240628T120823Z
UID:22195-1719705600-1719791999@www.ffrando-loire.fr
SUMMARY:Bike and Fourme : Randonnée à Chalmazel
DESCRIPTION: \nPrenez de la hauteur avec le télésiège de la station pour accéder au début des parcours balisés ! \nDeux itinéraires proposés : 6 km et 12 km\nDépart de 9h à 11h pour le 12 km. Départ de 9h à 13h pour le 6 km. \nCes itinéraires vous emmèneront sur le plateau de Pierre-sur-haute (en aller-retour en télésiège pour le 6 km ; en descendant par les sentiers pour le 12 km). À votre retour\, profitez des animations du festival (marché de producteurs\, stand de la fédération de randonnée\, tir à l’arc\, bikeathlon carabiné…). \n\nRendez-vous sur le stand du comité FFRandonnée Loire pour récupérer le tracé\nSentier balisé au départ du sommet de la station\nTarif : 5 euros (gratuit pour les moins de 12 ans)\nTarif spécial de 10 euros avec une part de fourmiflette offerte pour le repas à l’arrivée.\n\nRetrouvez tout le programme du Festival Bike and Fourme\nRetrouvez sur ce lien toutes les infos sur les randonnées pédestres et un formulaire d’inscription en ligne \n
URL:https://www.ffrando-loire.fr/event/bike-and-fourme-randonnee-a-chalmazel/
LOCATION:Station Chalmazel\, France
CATEGORIES:Rando-campagnarde ®
ORGANIZER;CN="Comit%C3%A9%20FFRandonn%C3%A9e%20Loire":MAILTO:loire@ffrandonnee.fr
GEO:45.676847027481;3.8252369673118
END:VEVENT
END:VCALENDAR