BEGIN:VCALENDAR
VERSION:2.0
PRODID:-//FFRandonnée Loire - ECPv4.9.11//NONSGML v1.0//EN
CALSCALE:GREGORIAN
METHOD:PUBLISH
X-WR-CALNAME:FFRandonnée Loire
X-ORIGINAL-URL:https://www.ffrando-loire.fr
X-WR-CALDESC:Évènements pour FFRandonnée Loire
BEGIN:VTIMEZONE
TZID:UTC
BEGIN:STANDARD
TZOFFSETFROM:+0000
TZOFFSETTO:+0000
TZNAME:UTC
DTSTART:20240101T000000
END:STANDARD
END:VTIMEZONE
BEGIN:VEVENT
DTSTART;VALUE=DATE:20241123
DTEND;VALUE=DATE:20241124
DTSTAMP:20260424T221955
CREATED:20240207T163820Z
LAST-MODIFIED:20241114T150237Z
UID:24066-1732320000-1732406399@www.ffrando-loire.fr
SUMMARY:Marche nocturne La Fouillouse
DESCRIPTION:Marche nocturne dans le cadre de la 30ème marche au profit du téléthon par l’association du hameau d’Eculieu.\nDépart 17h30 de la salle socio sportive.\n2 parcours de 6 et 12 km avec ravitos et repas. Un ravitaillement sur la 12 km et saucisse lentille à l’arrivée pour les deux parcours.\nInscriptions obligatoire via Hello asso marche Eculieu. \n
URL:https://www.ffrando-loire.fr/event/marche-nocturne-la-fouillouse/
LOCATION:La Fouillouse\, La Fouilllouse\, 42480\, France
CATEGORIES:Rando-campagnarde ®
GEO:45.500447;4.318237
END:VEVENT
END:VCALENDAR