BEGIN:VCALENDAR
VERSION:2.0
PRODID:-//FFRandonnée Loire - ECPv4.9.11//NONSGML v1.0//EN
CALSCALE:GREGORIAN
METHOD:PUBLISH
X-WR-CALNAME:FFRandonnée Loire
X-ORIGINAL-URL:https://www.ffrando-loire.fr
X-WR-CALDESC:Évènements pour FFRandonnée Loire
BEGIN:VTIMEZONE
TZID:UTC
BEGIN:STANDARD
TZOFFSETFROM:+0000
TZOFFSETTO:+0000
TZNAME:UTC
DTSTART:20250101T000000
END:STANDARD
END:VTIMEZONE
BEGIN:VEVENT
DTSTART;TZID=UTC:20250605T140000
DTEND;TZID=UTC:20250605T173000
DTSTAMP:20260422T141743
CREATED:20230117T150344Z
LAST-MODIFIED:20250517T061725Z
UID:19849-1749132000-1749144600@www.ffrando-loire.fr
SUMMARY:Rando et visite guidée à la Valla-en-Gier
DESCRIPTION: \nBalade/visite guidée gratuite de 14h à 17h30 avec Saint-Etienne Métropole Pays d’art et histoire\, Françoise Savarino (céramiste)\, la maison Champagnat et la FFRandonnée Loire.\nInscription préalable obligatoire sur mpl-billetterie.saint-etienne.fr \n
URL:https://www.ffrando-loire.fr/event/rando-et-visite-guidee-a-la-valla-en-gier/
LOCATION:La Valla-en-Gier\, mairie\, La Valla en Gier\, France
CATEGORIES:Rando guidée
GEO:45.416423885276;4.5161601988764
X-APPLE-STRUCTURED-LOCATION;VALUE=URI;X-ADDRESS=La Valla-en-Gier mairie La Valla en Gier France;X-APPLE-RADIUS=500;X-TITLE=mairie:geo:4.5161601988764,45.416423885276
END:VEVENT
END:VCALENDAR